BEGIN:VCALENDAR
VERSION:2.0
PRODID:-//Rebindme - ECPv5.2.1.1//NONSGML v1.0//EN
CALSCALE:GREGORIAN
METHOD:PUBLISH
X-WR-CALNAME:Rebindme
X-ORIGINAL-URL:http://rebindme.com
X-WR-CALDESC:évènements pour Rebindme
BEGIN:VTIMEZONE
TZID:Europe/Paris
BEGIN:DAYLIGHT
TZOFFSETFROM:+0100
TZOFFSETTO:+0200
TZNAME:CEST
DTSTART:20180325T010000
END:DAYLIGHT
BEGIN:STANDARD
TZOFFSETFROM:+0200
TZOFFSETTO:+0100
TZNAME:CET
DTSTART:20181028T010000
END:STANDARD
END:VTIMEZONE
BEGIN:VEVENT
DTSTART;VALUE=DATE:20180525
DTEND;VALUE=DATE:20180526
DTSTAMP:20260422T035533
CREATED:20180510T203604Z
LAST-MODIFIED:20180510T204743Z
UID:523-1527206400-1527292799@rebindme.com
SUMMARY:Entrée en vigueur du RGPD
DESCRIPTION:Articles similaires
URL:http://rebindme.com/event/entree-en-vigueur-du-rgpd/
ATTACH;FMTTYPE=image/jpeg:http://rebindme.com/wp-content/uploads/2018/05/rgpd_fr.jpg
END:VEVENT
END:VCALENDAR